BEGIN:VCALENDAR
VERSION:2.0
PRODID:-//Deutscher Alpenverein Sektion Simbach am Inn - ECPv6.3.3.1//NONSGML v1.0//EN
CALSCALE:GREGORIAN
METHOD:PUBLISH
X-WR-CALNAME:Deutscher Alpenverein Sektion Simbach am Inn
X-ORIGINAL-URL:https://alpenverein-simbach.de
X-WR-CALDESC:Veranstaltungen für Deutscher Alpenverein Sektion Simbach am Inn
REFRESH-INTERVAL;VALUE=DURATION:PT1H
X-Robots-Tag:noindex
X-PUBLISHED-TTL:PT1H
BEGIN:VTIMEZONE
TZID:Europe/Berlin
BEGIN:DAYLIGHT
TZOFFSETFROM:+0100
TZOFFSETTO:+0200
TZNAME:CEST
DTSTART:20260329T010000
END:DAYLIGHT
BEGIN:STANDARD
TZOFFSETFROM:+0200
TZOFFSETTO:+0100
TZNAME:CET
DTSTART:20261025T010000
END:STANDARD
END:VTIMEZONE
BEGIN:VEVENT
DTSTART;TZID=Europe/Berlin:20260125T000000
DTEND;TZID=Europe/Berlin:20260125T235959
DTSTAMP:20260423T133121
CREATED:20251221T191800Z
LAST-MODIFIED:20251221T191801Z
UID:1545-1769299200-1769385599@alpenverein-simbach.de
SUMMARY:Platte (1.906 m) (GA01/26)
DESCRIPTION:Kitzbüheler AlpenDer recht abwechslungsreiche Anstieg auf die Platte berührt das nahe Alpinskigebiet Fieberbrunn nicht. Die Tour wird eher selten begangen.AP: Fieberbrunn\, Pletzergraben (849 hm)Treffpunkt: Kletterhalle 6 Uhr (Abfahrt)Gehzeit: 4 h; HM: 1.000 hmAusrüstung: Skitourenausrüstung\, Piepser\, Sonde\, SchaufelAnforderungen: mittelMax. Teilnehmer: 9Teilnahmegebühr: 5 Euro (zzgl. Anreise)Leitung: Gerhard Auer \n\n\n\n\nSchwierigkeit: Leicht \n\n\n\n	\n		\n			\n				\n					\n						\n  \n  \n\n						\n							Zum Kalender hinzufügen						\n						\n					\n					\n						\n															\n									\n										Google Kalender									\n								\n															\n									\n										iCalendar									\n								\n															\n									\n										Outlook 365									\n								\n															\n									\n										Outlook Live
URL:https://alpenverein-simbach.de/event/platte-1-906-m-ga01-26/
CATEGORIES:Schitour
END:VEVENT
END:VCALENDAR