BEGIN:VCALENDAR
VERSION:2.0
PRODID:-//Deutscher Alpenverein Sektion Simbach am Inn - ECPv6.3.3.1//NONSGML v1.0//EN
CALSCALE:GREGORIAN
METHOD:PUBLISH
X-ORIGINAL-URL:https://alpenverein-simbach.de
X-WR-CALDESC:Veranstaltungen für Deutscher Alpenverein Sektion Simbach am Inn
REFRESH-INTERVAL;VALUE=DURATION:PT1H
X-Robots-Tag:noindex
X-PUBLISHED-TTL:PT1H
BEGIN:VTIMEZONE
TZID:Europe/Berlin
BEGIN:DAYLIGHT
TZOFFSETFROM:+0100
TZOFFSETTO:+0200
TZNAME:CEST
DTSTART:20260329T010000
END:DAYLIGHT
BEGIN:STANDARD
TZOFFSETFROM:+0200
TZOFFSETTO:+0100
TZNAME:CET
DTSTART:20261025T010000
END:STANDARD
END:VTIMEZONE
BEGIN:VEVENT
DTSTART;TZID=Europe/Berlin:20260328T000000
DTEND;TZID=Europe/Berlin:20260328T235959
DTSTAMP:20260423T103709
CREATED:20251221T195603Z
LAST-MODIFIED:20251221T195604Z
UID:1571-1774656000-1774742399@alpenverein-simbach.de
SUMMARY:Skitour auf den Hohen First(1.718 m) Osterhorngruppe (SH05/26)
DESCRIPTION:Rauf auf die Genneralm\, runter ins Ackersbachtal\, rauf auf den Hohen First und wieder zurück: Durchquerungsfeeling vor der Haustür.AP: Lämmerbach bei HinterseeTreffpunkt: Kletterhalle 5 Uhr (Abfahrt)Gehzeit: ges. 4 Stunden; HM: ges. ca. 1.500 hmAusrüstung: komplette Skitourenausrüstung\, Piepser\, Schaufel\, Sonde\, HarscheisenAnforderungen: technisch mittelschwer\, gute KonditionMax. Teilnehmer: 7Teilnahmegebühr: 5 Euro (zzgl. Anreise)Leitung: Stephan Haslinger \n\n\n\n\nSchwierigkeit: Mittel \n\n\n\n	\n		\n			\n				\n					\n						\n  \n  \n\n						\n							Zum Kalender hinzufügen						\n						\n					\n					\n						\n															\n									\n										Google Kalender									\n								\n															\n									\n										iCalendar									\n								\n															\n									\n										Outlook 365									\n								\n															\n									\n										Outlook Live
URL:https://alpenverein-simbach.de/event/skitour-auf-den-hohen-first1-718-m-osterhorngruppe-sh05-26/
CATEGORIES:Schitour
END:VEVENT
END:VCALENDAR