BEGIN:VCALENDAR
VERSION:2.0
PRODID:-//Deutscher Alpenverein Sektion Simbach am Inn - ECPv6.3.3.1//NONSGML v1.0//EN
CALSCALE:GREGORIAN
METHOD:PUBLISH
X-WR-CALNAME:Deutscher Alpenverein Sektion Simbach am Inn
X-ORIGINAL-URL:https://alpenverein-simbach.de
X-WR-CALDESC:Veranstaltungen für Deutscher Alpenverein Sektion Simbach am Inn
REFRESH-INTERVAL;VALUE=DURATION:PT1H
X-Robots-Tag:noindex
X-PUBLISHED-TTL:PT1H
BEGIN:VTIMEZONE
TZID:Europe/Berlin
BEGIN:DAYLIGHT
TZOFFSETFROM:+0100
TZOFFSETTO:+0200
TZNAME:CEST
DTSTART:20260329T010000
END:DAYLIGHT
BEGIN:STANDARD
TZOFFSETFROM:+0200
TZOFFSETTO:+0100
TZNAME:CET
DTSTART:20261025T010000
END:STANDARD
END:VTIMEZONE
BEGIN:VEVENT
DTSTART;TZID=Europe/Berlin:20260403T000000
DTEND;TZID=Europe/Berlin:20260403T235959
DTSTAMP:20260421T092149
CREATED:20260401T110114Z
LAST-MODIFIED:20260401T110138Z
UID:1659-1775174400-1775260799@alpenverein-simbach.de
SUMMARY:Heavens Gate
DESCRIPTION:Kletterausflug zu Europas höchster Kletterhalle nach München \n\n\n\nLeitung: Simon Entholzer
URL:https://alpenverein-simbach.de/event/heavens-gate/
CATEGORIES:Jugend
END:VEVENT
END:VCALENDAR