BEGIN:VCALENDAR
VERSION:2.0
PRODID:-//Deutscher Alpenverein Sektion Simbach am Inn - ECPv6.3.3.1//NONSGML v1.0//EN
CALSCALE:GREGORIAN
METHOD:PUBLISH
X-ORIGINAL-URL:https://alpenverein-simbach.de
X-WR-CALDESC:Veranstaltungen für Deutscher Alpenverein Sektion Simbach am Inn
REFRESH-INTERVAL;VALUE=DURATION:PT1H
X-Robots-Tag:noindex
X-PUBLISHED-TTL:PT1H
BEGIN:VTIMEZONE
TZID:Europe/Berlin
BEGIN:DAYLIGHT
TZOFFSETFROM:+0100
TZOFFSETTO:+0200
TZNAME:CEST
DTSTART:20260329T010000
END:DAYLIGHT
BEGIN:STANDARD
TZOFFSETFROM:+0200
TZOFFSETTO:+0100
TZNAME:CET
DTSTART:20261025T010000
END:STANDARD
END:VTIMEZONE
BEGIN:VEVENT
DTSTART;TZID=Europe/Berlin:20260711T000000
DTEND;TZID=Europe/Berlin:20260711T235959
DTSTAMP:20260421T184412
CREATED:20260301T180859Z
LAST-MODIFIED:20260301T180900Z
UID:1592-1783728000-1783814399@alpenverein-simbach.de
SUMMARY:Bergtour: Tristkopf (2.110 m) (FG02/26)
DESCRIPTION:Einziger Gipfel im einsamen Hagengebirge\, der über einen markierten Weg zu erreichen ist.AP: Parkplatz bei Kiesgrube Sulzau\, 540 mTreffpunkt: Kletterhalle 6 Uhr (Abfahrt)Gehzeit: 8 h; HM: 1.550 hmAusrüstung: BergwanderausrüstungAnforderungen: Trittsicherheit\, KonditionMax. Teilnehmer: offenTeilnahmegebühr: 5 Euro(zzgl. Anreise)Leitung: Franz Gilg \n\n\n\n\nSchwierigkeit: Mittel \n\n\n\n	\n		\n			\n				\n					\n						\n  \n  \n\n						\n							Zum Kalender hinzufügen						\n						\n					\n					\n						\n															\n									\n										Google Kalender									\n								\n															\n									\n										iCalendar									\n								\n															\n									\n										Outlook 365									\n								\n															\n									\n										Outlook Live
URL:https://alpenverein-simbach.de/event/bergtour-tristkopf-2-110-m-fg02-26/
CATEGORIES:Wanderung/Bergtour
END:VEVENT
END:VCALENDAR