BEGIN:VCALENDAR
VERSION:2.0
PRODID:-//Deutscher Alpenverein Sektion Simbach am Inn - ECPv6.3.3.1//NONSGML v1.0//EN
CALSCALE:GREGORIAN
METHOD:PUBLISH
X-WR-CALNAME:Deutscher Alpenverein Sektion Simbach am Inn
X-ORIGINAL-URL:https://alpenverein-simbach.de
X-WR-CALDESC:Veranstaltungen für Deutscher Alpenverein Sektion Simbach am Inn
REFRESH-INTERVAL;VALUE=DURATION:PT1H
X-Robots-Tag:noindex
X-PUBLISHED-TTL:PT1H
BEGIN:VTIMEZONE
TZID:Europe/Berlin
BEGIN:DAYLIGHT
TZOFFSETFROM:+0100
TZOFFSETTO:+0200
TZNAME:CEST
DTSTART:20260329T010000
END:DAYLIGHT
BEGIN:STANDARD
TZOFFSETFROM:+0200
TZOFFSETTO:+0100
TZNAME:CET
DTSTART:20261025T010000
END:STANDARD
END:VTIMEZONE
BEGIN:VEVENT
DTSTART;TZID=Europe/Berlin:20260730T000000
DTEND;TZID=Europe/Berlin:20260803T235959
DTSTAMP:20260422T091200
CREATED:20260301T191241Z
LAST-MODIFIED:20260301T191242Z
UID:1623-1785369600-1785801599@alpenverein-simbach.de
SUMMARY:Rauf auf die Hütte - Familienfreizeit (CNHS04/26)
DESCRIPTION:Auf der Simbacher Hütte (Selbstversorger) Wandern\, Spielen\, lustiges Zusammensein\, Übernachten mit Hüttenflair. Es sind auch weniger als 3 Übernachtungen möglich.Teilnehmer: max. 28 PersonenKosten: Verpflegung und ÜbernachtungLeitung: Conny Nachtigall und Herbert SimböckDie Teilnehmer erhalten dann genaue Infos. \n\n\n\n\nSchwierigkeit: Leicht \n\n\n\n	\n		\n			\n				\n					\n						\n  \n  \n\n						\n							Zum Kalender hinzufügen						\n						\n					\n					\n						\n															\n									\n										Google Kalender									\n								\n															\n									\n										iCalendar									\n								\n															\n									\n										Outlook 365									\n								\n															\n									\n										Outlook Live
URL:https://alpenverein-simbach.de/event/rauf-auf-die-huette-familienfreizeit-cnhs04-26/
CATEGORIES:Familiengruppe
END:VEVENT
BEGIN:VEVENT
DTSTART;TZID=Europe/Berlin:20260802T000000
DTEND;TZID=Europe/Berlin:20260802T235959
DTSTAMP:20260422T091200
CREATED:20260301T181306Z
LAST-MODIFIED:20260301T181308Z
UID:1596-1785628800-1785715199@alpenverein-simbach.de
SUMMARY:Geo-Tour auf das Gamsfeld (IU02/26)
DESCRIPTION:Höchster Gipfel der Osterhorngruppe\, Schichten der kreidezeitlichen Gosauformation\, Dachsteinkalk der oberen Trias. \n\n\n\nAufstieg vom Parkplatz Rinnbach in Rußbach (850 m NN) über die Traunwaldalm zum Gipfel des Gamsfelds (2027 m NN). Abstieg über die Angerkaralm zurück nach Rußbach.Einkehrmöglichkeit in der AngerkaralmAP: Parkplatz Rinnbach in RußbachTreffpunkt: Kletterhalle 6 Uhr (Abfahrt)Gehzeit: ca. 6 h; HM: ca. 1.200 hmAusrüstung: Bergwanderausrüstung\, kleine BrotzeitAnforderungen: Trittsicher und schwindelfrei.Max. Teilnehmer: 8Teilnahmegebühr: 5 Euro(zzgl. Anreise)Leitung: Isolde und Dr. Albert Ulbig \n\n\n\n\nSchwierigkeit: Mittel \n\n\n\n	\n		\n			\n				\n					\n						\n  \n  \n\n						\n							Zum Kalender hinzufügen						\n						\n					\n					\n						\n															\n									\n										Google Kalender									\n								\n															\n									\n										iCalendar									\n								\n															\n									\n										Outlook 365									\n								\n															\n									\n										Outlook Live
URL:https://alpenverein-simbach.de/event/geo-tour-auf-das-gamsfeld-iu02-26/
CATEGORIES:Wanderung/Bergtour
END:VEVENT
BEGIN:VEVENT
DTSTART;TZID=Europe/Berlin:20260802T000000
DTEND;TZID=Europe/Berlin:20260808T235959
DTSTAMP:20260422T091200
CREATED:20260301T181814Z
LAST-MODIFIED:20260301T181815Z
UID:1598-1785628800-1786233599@alpenverein-simbach.de
SUMMARY:Hochtour in das Berner Oberland (GA06/26)
DESCRIPTION:Touren: Finsteraarhorn 4.274 m undGroßer Fiescherhorn 4.049 mAP: Grimmselpaß 2.160 hmSP: Finsteraarhornhütte 3.048 hmTreffpunkt: Kletterhalle 6 Uhr (Abfahrt)Gehzeit: über 10 h; HM: bis 1.300 hmAusrüstung: Hochtourenausrüstung\, Sonnenschutz\, Pickel\, Steigeisen\, Gurt\, SeilAnforderungen: schwer. Teilnahme an der Vorbereitungstour\, Kondition für Gehzeiten über 10 Stunden\, Gehen im kombinierten Gelände Gletscher (Steigeisen und Pickel) und FelsMax. Teilnehmer: 7Kosten: Anreise (Auto\, Maut)\, Übernachtung (HP)Teilnahmegebühr: 30 EuroAnmeldeschluss: 14. Juni 2026Leitung: Gerhard Auer \n\n\n\n\nSchwierigkeit: Schwer \n\n\n\n	\n		\n			\n				\n					\n						\n  \n  \n\n						\n							Zum Kalender hinzufügen						\n						\n					\n					\n						\n															\n									\n										Google Kalender									\n								\n															\n									\n										iCalendar									\n								\n															\n									\n										Outlook 365									\n								\n															\n									\n										Outlook Live
URL:https://alpenverein-simbach.de/event/hochtour-in-das-berner-oberland-ga06-26/
CATEGORIES:Wanderung/Bergtour
END:VEVENT
END:VCALENDAR