BEGIN:VCALENDAR
VERSION:2.0
PRODID:-//Deutscher Alpenverein Sektion Simbach am Inn - ECPv6.3.3.1//NONSGML v1.0//EN
CALSCALE:GREGORIAN
METHOD:PUBLISH
X-ORIGINAL-URL:https://alpenverein-simbach.de
X-WR-CALDESC:Veranstaltungen für Deutscher Alpenverein Sektion Simbach am Inn
REFRESH-INTERVAL;VALUE=DURATION:PT1H
X-Robots-Tag:noindex
X-PUBLISHED-TTL:PT1H
BEGIN:VTIMEZONE
TZID:Europe/Berlin
BEGIN:DAYLIGHT
TZOFFSETFROM:+0100
TZOFFSETTO:+0200
TZNAME:CEST
DTSTART:20260329T010000
END:DAYLIGHT
BEGIN:STANDARD
TZOFFSETFROM:+0200
TZOFFSETTO:+0100
TZNAME:CET
DTSTART:20261025T010000
END:STANDARD
END:VTIMEZONE
BEGIN:VEVENT
DTSTART;TZID=Europe/Berlin:20260913T000000
DTEND;TZID=Europe/Berlin:20260913T235959
DTSTAMP:20260422T124924
CREATED:20260301T192044Z
LAST-MODIFIED:20260301T192045Z
UID:1631-1789257600-1789343999@alpenverein-simbach.de
SUMMARY:Mountainbiken rundum den Zinnkopf (TG03/26)
DESCRIPTION:Die Trails in der näheren Umgebung von Ruhpolding sind schon lange kein Geheimnis mehr. Ein Mix aus technischen Abfahrten und flowigen Trails gepaart mit malerischen Ausschichten.Treffpunkt: Kletterhalle 8:30 Uhr (Abfahrt)Fahrzeit: GanztagestourenHM: 1.000 hm ca. 25 kmAusrüstung: Technisch einwandfreies MTB\, Helm\, Handschuhe\, Trinkflasche oder -rucksackAnforderungen: Befahren von mittelschweren Trails\, gute Kondition erforderlichHinweis: Einkehrmöglichkeiten vorhandenMax. Teilnehmer: 7Teilnahmegebühr: 5 EuroLeitung: Thomas Grandl und Jürgen Dachgruber
URL:https://alpenverein-simbach.de/event/mountainbiken-rundum-den-zinnkopf-tg03-26/
CATEGORIES:Mountainbike-Tour
END:VEVENT
BEGIN:VEVENT
DTSTART;TZID=Europe/Berlin:20260913T000000
DTEND;TZID=Europe/Berlin:20260916T235959
DTSTAMP:20260422T124924
CREATED:20260301T193544Z
LAST-MODIFIED:20260301T193545Z
UID:1652-1789257600-1789603199@alpenverein-simbach.de
SUMMARY:Bergmesse bei der Seidl-Alm Saalbach / Senioren Hüttenfahrt Sommer
DESCRIPTION:Anmeldung bei Marianne Heuwieser
URL:https://alpenverein-simbach.de/event/bergmesse-bei-der-seidl-alm-saalbach-senioren-huettenfahrt-sommer/
CATEGORIES:Senioren
END:VEVENT
END:VCALENDAR