BEGIN:VCALENDAR
VERSION:2.0
PRODID:-//Deutscher Alpenverein Sektion Simbach am Inn - ECPv6.3.3.1//NONSGML v1.0//EN
CALSCALE:GREGORIAN
METHOD:PUBLISH
X-ORIGINAL-URL:https://alpenverein-simbach.de
X-WR-CALDESC:Veranstaltungen für Deutscher Alpenverein Sektion Simbach am Inn
REFRESH-INTERVAL;VALUE=DURATION:PT1H
X-Robots-Tag:noindex
X-PUBLISHED-TTL:PT1H
BEGIN:VTIMEZONE
TZID:Europe/Berlin
BEGIN:DAYLIGHT
TZOFFSETFROM:+0100
TZOFFSETTO:+0200
TZNAME:CEST
DTSTART:20260329T010000
END:DAYLIGHT
BEGIN:STANDARD
TZOFFSETFROM:+0200
TZOFFSETTO:+0100
TZNAME:CET
DTSTART:20261025T010000
END:STANDARD
END:VTIMEZONE
BEGIN:VEVENT
DTSTART;TZID=Europe/Berlin:20260920T000000
DTEND;TZID=Europe/Berlin:20260920T235959
DTSTAMP:20260422T124724
CREATED:20260301T183349Z
LAST-MODIFIED:20260301T183359Z
UID:1604-1789862400-1789948799@alpenverein-simbach.de
SUMMARY:Auf den Spuren des Kohlebergbaus im Hausruck (IU03/26)
DESCRIPTION:Wanderung auf dem Kamm des Hausrucks rund um den Göblberg (801 mNN) AP: Parkplatz Hoblschlag oberhalb von FrankenburgTreffpunkt: Kletterhalle 8 Uhr (Abfahrt)Gehzeit: 4 h; HM: 400 hmAusrüstung: festes Schuhwerk\, kleine BrotzeitAnforderungen: Trittsicherheit\, AusdauerKosten: Evtl. Einkehr unterwegsMax. Teilnehmer: 10Teilnahmegebühr: 5 Euro(zzgl. Anfahrt)Leitung: Isolde und Albert Ulbig \n\n\n\n\nSchwierigkeit: Leicht \n\n\n\n	\n		\n			\n				\n					\n						\n  \n  \n\n						\n							Zum Kalender hinzufügen						\n						\n					\n					\n						\n															\n									\n										Google Kalender									\n								\n															\n									\n										iCalendar									\n								\n															\n									\n										Outlook 365									\n								\n															\n									\n										Outlook Live
URL:https://alpenverein-simbach.de/event/auf-den-spuren-deskohlebergbaus-im-hausruck-iu03-26/
CATEGORIES:Wanderung/Bergtour
END:VEVENT
END:VCALENDAR