BEGIN:VCALENDAR
VERSION:2.0
PRODID:-//Deutscher Alpenverein Sektion Simbach am Inn - ECPv6.3.3.1//NONSGML v1.0//EN
CALSCALE:GREGORIAN
METHOD:PUBLISH
X-ORIGINAL-URL:https://alpenverein-simbach.de
X-WR-CALDESC:Veranstaltungen für Deutscher Alpenverein Sektion Simbach am Inn
REFRESH-INTERVAL;VALUE=DURATION:PT1H
X-Robots-Tag:noindex
X-PUBLISHED-TTL:PT1H
BEGIN:VTIMEZONE
TZID:Europe/Berlin
BEGIN:DAYLIGHT
TZOFFSETFROM:+0100
TZOFFSETTO:+0200
TZNAME:CEST
DTSTART:20260329T010000
END:DAYLIGHT
BEGIN:STANDARD
TZOFFSETFROM:+0200
TZOFFSETTO:+0100
TZNAME:CET
DTSTART:20261025T010000
END:STANDARD
END:VTIMEZONE
BEGIN:VEVENT
DTSTART;TZID=Europe/Berlin:20261010T000000
DTEND;TZID=Europe/Berlin:20261010T235959
DTSTAMP:20260422T144135
CREATED:20260301T185836Z
LAST-MODIFIED:20260301T185837Z
UID:1611-1791590400-1791676799@alpenverein-simbach.de
SUMMARY:Mittelgebirgswanderung Dreisessel (1.333 m) und Plöckenstein (1.379 m) (FG06/26)
DESCRIPTION:Herbstlicher Rundweg im Dreiländereck auf den Spuren Adalbert Stifters\, mit einem Abstecher zum Plöckensteinsee.Einkehr im Dreisesselhaus.AP: Parkplatz Böhmerwalddenkmal\, 830 mTreffpunkt: Kletterhalle 6 Uhr (Abfahrt)Gehzeit: 6 h; HM: 800 hm; SL: 18 KilometerAusrüstung: BergwanderausrüstungAnforderungen: Kondition für längeren MarschMax. Teilnehmer: offenTeilnahmegebühr: 5 Euro(zzgl. Anreise)Leitung: Franz Gilg
URL:https://alpenverein-simbach.de/event/mittelgebirgswanderung-dreisessel-1-333-m-und-ploeckenstein-1-379-m-fg06-26/
CATEGORIES:Wanderung/Bergtour
END:VEVENT
END:VCALENDAR