BEGIN:VCALENDAR
VERSION:2.0
PRODID:-//Deutscher Alpenverein Sektion Simbach am Inn - ECPv6.3.3.1//NONSGML v1.0//EN
CALSCALE:GREGORIAN
METHOD:PUBLISH
X-ORIGINAL-URL:https://alpenverein-simbach.de
X-WR-CALDESC:Veranstaltungen für Deutscher Alpenverein Sektion Simbach am Inn
REFRESH-INTERVAL;VALUE=DURATION:PT1H
X-Robots-Tag:noindex
X-PUBLISHED-TTL:PT1H
BEGIN:VTIMEZONE
TZID:Europe/Berlin
BEGIN:DAYLIGHT
TZOFFSETFROM:+0100
TZOFFSETTO:+0200
TZNAME:CEST
DTSTART:20250330T010000
END:DAYLIGHT
BEGIN:STANDARD
TZOFFSETFROM:+0200
TZOFFSETTO:+0100
TZNAME:CET
DTSTART:20251026T010000
END:STANDARD
END:VTIMEZONE
BEGIN:VEVENT
DTSTART;TZID=Europe/Berlin:20251220T183000
DTEND;TZID=Europe/Berlin:20251220T183000
DTSTAMP:20260423T134743
CREATED:20250222T093151Z
LAST-MODIFIED:20250222T093152Z
UID:1483-1766255400-1766255400@alpenverein-simbach.de
SUMMARY:Weihnachtsfeier in der Kletterhalle
DESCRIPTION:
URL:https://alpenverein-simbach.de/event/weihnachtsfeier-in-der-kletterhalle-2/
CATEGORIES:Sektion,Senioren
END:VEVENT
BEGIN:VEVENT
DTSTART;TZID=Europe/Berlin:20251231T130000
DTEND;TZID=Europe/Berlin:20251231T130000
DTSTAMP:20260423T134743
CREATED:20250222T101311Z
LAST-MODIFIED:20250222T101311Z
UID:1503-1767186000-1767186000@alpenverein-simbach.de
SUMMARY:Silvesterwanderung
DESCRIPTION:Traditionelle Strecke mit Einkehr \n\n\n\nTreffpunkt: Kletterhalle
URL:https://alpenverein-simbach.de/event/silvesterwanderung/
CATEGORIES:Sektion
END:VEVENT
END:VCALENDAR