BEGIN:VCALENDAR
VERSION:2.0
PRODID:-//Deutscher Alpenverein Sektion Simbach am Inn - ECPv6.3.3.1//NONSGML v1.0//EN
CALSCALE:GREGORIAN
METHOD:PUBLISH
X-ORIGINAL-URL:https://alpenverein-simbach.de
X-WR-CALDESC:Veranstaltungen für Deutscher Alpenverein Sektion Simbach am Inn
REFRESH-INTERVAL;VALUE=DURATION:PT1H
X-Robots-Tag:noindex
X-PUBLISHED-TTL:PT1H
BEGIN:VTIMEZONE
TZID:Europe/Berlin
BEGIN:DAYLIGHT
TZOFFSETFROM:+0100
TZOFFSETTO:+0200
TZNAME:CEST
DTSTART:20260329T010000
END:DAYLIGHT
BEGIN:STANDARD
TZOFFSETFROM:+0200
TZOFFSETTO:+0100
TZNAME:CET
DTSTART:20261025T010000
END:STANDARD
END:VTIMEZONE
BEGIN:VEVENT
DTSTART;TZID=Europe/Berlin:20260106T000000
DTEND;TZID=Europe/Berlin:20260106T235959
DTSTAMP:20260423T121525
CREATED:20251221T190513Z
LAST-MODIFIED:20251221T190515Z
UID:1537-1767657600-1767743999@alpenverein-simbach.de
SUMMARY:Ausbildungstour Postalm (NW01/26)
DESCRIPTION:Bei dieser Tour auf der Postalm werden sowohl grundlegende Techniken für das Skitourengehen sowie der Umgang mit LVS-Gerät\, Sonde und Schaufel geübt. \n\n\n\nMögliche Gipfel sind Windkogel (1.574 m)\, Thorhöhe (1.533 m) oder Wieslerhorn (1.603 m) oder eine Kombination aus mehreren Gipfeln. \n\n\n\nAP: Parkplatz bei den Skiliften an der Postalm (1.160 m)Treffpunkt: Kletterhalle 6:30 Uhr (Abfahrt)Gehzeit: 1\,5 h / bei mehreren Gipfeln entsprechend längerHM: 450 hmAusrüstung: kompl. Skitourenausrüstung\, Schaufel\, Sonde\, LVS-Gerät (können bei der Sektion ausgeliehen werden)Anforderungen: für Anfänger / EinsteigerMax. Teilnehmer: 7Teilnahmegebühr: 5 Euro + 10 Euro MautgebührLeitung: Nikolaus Westenthanner \n\n\n\n\nSchwierigkeit: Leicht \n\n\n\n	\n		\n			\n				\n					\n						\n  \n  \n\n						\n							Zum Kalender hinzufügen						\n						\n					\n					\n						\n															\n									\n										Google Kalender									\n								\n															\n									\n										iCalendar									\n								\n															\n									\n										Outlook 365									\n								\n															\n									\n										Outlook Live
URL:https://alpenverein-simbach.de/event/ausbildungstour-postalm-nw01-26/
CATEGORIES:Schitour
END:VEVENT
BEGIN:VEVENT
DTSTART;TZID=Europe/Berlin:20260117T000000
DTEND;TZID=Europe/Berlin:20260117T235959
DTSTAMP:20260423T121525
CREATED:20251221T190935Z
LAST-MODIFIED:20251221T190936Z
UID:1539-1768608000-1768694399@alpenverein-simbach.de
SUMMARY:Piepsausbildung –Tourenziel je nach Schneelage (BB01/26)
DESCRIPTION:Ausbildungstour!Wir wollen uns einen Tag mit der Lawinensuche beschäftigen. Auch für eingesessene Tourengeher geeignet!Treffpunkt: Kletterhalle 6 Uhr (Abfahrt)Gehzeit: ca. 5 h; HM: ca. 900 mAusrüstung: komplette Skitourenausrüstung\, Piepser\, Schaufel\, SondeAnforderungen: für Anfänger/Einsteiger sehr gut geeignetMax. Teilnehmer: 7Teilnahmegebühr: 5 Euro pro Tourentag (zzgl. Anreise)Leitung: Benedikt Bittcher \n\n\n\n\nSchwierigkeit: Mittel \n\n\n\n	\n		\n			\n				\n					\n						\n  \n  \n\n						\n							Zum Kalender hinzufügen						\n						\n					\n					\n						\n															\n									\n										Google Kalender									\n								\n															\n									\n										iCalendar									\n								\n															\n									\n										Outlook 365									\n								\n															\n									\n										Outlook Live
URL:https://alpenverein-simbach.de/event/piepsausbildung-tourenziel-je-nach-schneelage-bb01-26/
CATEGORIES:Schitour
END:VEVENT
BEGIN:VEVENT
DTSTART;TZID=Europe/Berlin:20260118T000000
DTEND;TZID=Europe/Berlin:20260118T235959
DTSTAMP:20260423T121525
CREATED:20251221T191214Z
LAST-MODIFIED:20251221T191216Z
UID:1541-1768694400-1768780799@alpenverein-simbach.de
SUMMARY:Schneeschuh Fellhorn (1.760 m)Reit im Winkl (CK01/26)
DESCRIPTION:Anfangs über flaches Gelände am Sulzner Kaser\, mäßig steil im lichten Wald bergauf. Vorbei am Straubinger Haus\, bis zum Gipfel. Die traumhafte Aussicht auf die nördlichen Chiemgauer Alpen und den Chiemsee entlohnt für jeden Meter. Spätere Einkehr an der Hindenburghütte möglich.AP: HindenburghütteTreffpunkt: Kletterhalle 7 Uhr (Abfahrt)Gehzeit: ca. 5 h; ca. 650 HMAusrüstung: Schnee- und Bergschuhe\, Stöcke\, VerpflegungKosten: Shuttle Transfer zur HindenburghütteMax. Teilnehmer: 10Teilnahmegebühr: 5 Euro (zzgl. Anreise)Leitung: Christian Kimböck \n\n\n\n\nSchwierigkeit: Leicht \n\n\n\n	\n		\n			\n				\n					\n						\n  \n  \n\n						\n							Zum Kalender hinzufügen						\n						\n					\n					\n						\n															\n									\n										Google Kalender									\n								\n															\n									\n										iCalendar									\n								\n															\n									\n										Outlook 365									\n								\n															\n									\n										Outlook Live
URL:https://alpenverein-simbach.de/event/schneeschuh-fellhorn-1-760-mreit-im-winkl-ck01-26/
CATEGORIES:Schneeschuh-Wanderung
END:VEVENT
BEGIN:VEVENT
DTSTART;TZID=Europe/Berlin:20260124T000000
DTEND;TZID=Europe/Berlin:20260124T235959
DTSTAMP:20260423T121525
CREATED:20251221T191559Z
LAST-MODIFIED:20251221T191600Z
UID:1543-1769212800-1769299199@alpenverein-simbach.de
SUMMARY:Skitour auf den Pillstein(1.478 m) Osterhorngruppe (SH02/26)
DESCRIPTION:Erlebnisreiche Hochwintertour:Über die Mehlsackalm auf den Sattel unter dem Pillstein\, einsame Abfahrt zur Braunauer Hütte\, kleine Rundtour und Besteigung des Pillstein\, Abfahrt in die Tiefbrunnau dort\, wo der beste Schnee liegt.AP: TiefbrunnauTreffpunkt: Kletterhalle 6 Uhr (Abfahrt)Gehzeit: ca. 3 bis 4 Stunden reine GehzeitHM: gesamt gut 1.000 hmAusrüstung: komplette Skitourenausrüstung\, LVS-Gerät\, Sonde\, SchaufelAnforderungen: unschwierig\, für Anfänger gut geeignetMax. Teilnehmer: 7Teilnahmegebühr: 5 Euro pro Tourentag (zzgl. Anreise)Leitung: Stephan Haslinger \n\n\n\n\nSchwierigkeit: Leicht \n\n\n\n	\n		\n			\n				\n					\n						\n  \n  \n\n						\n							Zum Kalender hinzufügen						\n						\n					\n					\n						\n															\n									\n										Google Kalender									\n								\n															\n									\n										iCalendar									\n								\n															\n									\n										Outlook 365									\n								\n															\n									\n										Outlook Live
URL:https://alpenverein-simbach.de/event/skitour-auf-den-pillstein1-478-m-osterhorngruppe-sh02-26/
CATEGORIES:Schitour
END:VEVENT
BEGIN:VEVENT
DTSTART;TZID=Europe/Berlin:20260125T000000
DTEND;TZID=Europe/Berlin:20260125T235959
DTSTAMP:20260423T121525
CREATED:20251221T191800Z
LAST-MODIFIED:20251221T191801Z
UID:1545-1769299200-1769385599@alpenverein-simbach.de
SUMMARY:Platte (1.906 m) (GA01/26)
DESCRIPTION:Kitzbüheler AlpenDer recht abwechslungsreiche Anstieg auf die Platte berührt das nahe Alpinskigebiet Fieberbrunn nicht. Die Tour wird eher selten begangen.AP: Fieberbrunn\, Pletzergraben (849 hm)Treffpunkt: Kletterhalle 6 Uhr (Abfahrt)Gehzeit: 4 h; HM: 1.000 hmAusrüstung: Skitourenausrüstung\, Piepser\, Sonde\, SchaufelAnforderungen: mittelMax. Teilnehmer: 9Teilnahmegebühr: 5 Euro (zzgl. Anreise)Leitung: Gerhard Auer \n\n\n\n\nSchwierigkeit: Leicht \n\n\n\n	\n		\n			\n				\n					\n						\n  \n  \n\n						\n							Zum Kalender hinzufügen						\n						\n					\n					\n						\n															\n									\n										Google Kalender									\n								\n															\n									\n										iCalendar									\n								\n															\n									\n										Outlook 365									\n								\n															\n									\n										Outlook Live
URL:https://alpenverein-simbach.de/event/platte-1-906-m-ga01-26/
CATEGORIES:Schitour
END:VEVENT
BEGIN:VEVENT
DTSTART;TZID=Europe/Berlin:20260131T000000
DTEND;TZID=Europe/Berlin:20260131T235959
DTSTAMP:20260423T121525
CREATED:20251221T192058Z
LAST-MODIFIED:20251221T192059Z
UID:1547-1769817600-1769903999@alpenverein-simbach.de
SUMMARY:Skitour auf den Trattberg (1.757 m) Osterhorngruppe (SH03/26)
DESCRIPTION:Recht schneesichere und aussichtsreiche Skitour. An der Enzianhütte vorbei auf eine baumfreie Sonnenkuppe. Bei guten Bedingungen und ambitionierter Gruppe lockt eine Abfahrtsvariante mit ca. 250 hm Rückanstieg zum Gipfel.AP: Winterparkplatz am Beginn der Trattberg-MautstraßeTreffpunkt: Kletterhalle 6:00 Uhr (Abfahrt)Gehzeit: ca. 3 Stunden reine GehzeitHM: ca. 700 (mit Variante ca. 950)Ausrüstung: komplette Skitourenausrüstung\, Piepser\, Schaufel\, Sonde\, HarscheisenAnforderungen: nicht schwierig aber lohnendMax. Teilnehmer: 7Teilnahmegebühr: 5 Euro (zzgl. Anreise)Leitung: Stephan Haslinger \n\n\n\n\nSchwierigkeit: Leicht \n\n\n\n	\n		\n			\n				\n					\n						\n  \n  \n\n						\n							Zum Kalender hinzufügen						\n						\n					\n					\n						\n															\n									\n										Google Kalender									\n								\n															\n									\n										iCalendar									\n								\n															\n									\n										Outlook 365									\n								\n															\n									\n										Outlook Live
URL:https://alpenverein-simbach.de/event/skitour-auf-den-trattberg-1-757-m-osterhorngruppe-sh03-26/
CATEGORIES:Schitour
END:VEVENT
END:VCALENDAR