BEGIN:VCALENDAR
VERSION:2.0
PRODID:-//Deutscher Alpenverein Sektion Simbach am Inn - ECPv6.3.3.1//NONSGML v1.0//EN
CALSCALE:GREGORIAN
METHOD:PUBLISH
X-ORIGINAL-URL:https://alpenverein-simbach.de
X-WR-CALDESC:Veranstaltungen für Deutscher Alpenverein Sektion Simbach am Inn
REFRESH-INTERVAL;VALUE=DURATION:PT1H
X-Robots-Tag:noindex
X-PUBLISHED-TTL:PT1H
BEGIN:VTIMEZONE
TZID:Europe/Berlin
BEGIN:DAYLIGHT
TZOFFSETFROM:+0100
TZOFFSETTO:+0200
TZNAME:CEST
DTSTART:20260329T010000
END:DAYLIGHT
BEGIN:STANDARD
TZOFFSETFROM:+0200
TZOFFSETTO:+0100
TZNAME:CET
DTSTART:20261025T010000
END:STANDARD
END:VTIMEZONE
BEGIN:VEVENT
DTSTART;TZID=Europe/Berlin:20260206T000000
DTEND;TZID=Europe/Berlin:20260208T235959
DTSTAMP:20260423T103842
CREATED:20251221T192404Z
LAST-MODIFIED:20251221T192405Z
UID:1549-1770336000-1770595199@alpenverein-simbach.de
SUMMARY:Skitourenwochenende –Simbacher Hütte (BB02/26)
DESCRIPTION:Von unserer Simbacher Hütte wollen wir uns auf den Weg machen\, um tolle Touren abseits des Pistenrummels zu erleben. Je nach Hütte haben die Touren 800 – 1.500 hm.AP: wird bekannt gegeben.Treffpunkt: Vorbesprechung Kletterhalle Simbach am Sonntag\, 1. Februar 2026\, 19:30 UhrGehzeit: ca. 4 h; HM: ca. 1.300 hm – 1.800 hmAusrüstung: komplette Skitourenausrüstung\, Piepser\, Schaufel\, SondeAnforderungen: mittelschwere SkitourMax. Teilnehmer: 7Teilnahmegebühr: 5 Euro pro Tourentag (zzgl. Anreise)Leitung: Benedikt Bittcher \n\n\n\n\nSchwierigkeit: Mittel \n\n\n\n	\n		\n			\n				\n					\n						\n  \n  \n\n						\n							Zum Kalender hinzufügen						\n						\n					\n					\n						\n															\n									\n										Google Kalender									\n								\n															\n									\n										iCalendar									\n								\n															\n									\n										Outlook 365									\n								\n															\n									\n										Outlook Live
URL:https://alpenverein-simbach.de/event/skitourenwochenende-simbacher-huette-bb02-26/
CATEGORIES:Schitour
END:VEVENT
BEGIN:VEVENT
DTSTART;TZID=Europe/Berlin:20260214T000000
DTEND;TZID=Europe/Berlin:20260215T235959
DTSTAMP:20260423T103842
CREATED:20251221T193629Z
LAST-MODIFIED:20251221T193630Z
UID:1557-1771027200-1771199999@alpenverein-simbach.de
SUMMARY:Schneeschuh Chamer Hütte(Bayr. Wald)\, mit Übernachtung (CK02/26)
DESCRIPTION:Auf beschilderten Wegen zu den Rißloch Wasserfälle und zur Chamer Hütte und am nächsten Tag zum Großen Arber und Rückkehr.AP: Parkplatz Bodenmais SP: Chamer HütteTreffpunkt: Kletterhalle 7 Uhr (Abfahrt)Gehzeit: ca. 3 h; HM: max. 560 hmAusrüstung: Schneeschuhe\, Stöcke\, Bergschuhe\, Verpflegung\, LVS Set\, Übernachtung Hütte mit HPKosten: Übernachtung mit HPMax. Teilnehmer: 10Teilnahmegebühr: 10 Euro (zzgl. Anreise)Leitung: Christian Kimböck \n\n\n\n\nSchwierigkeit: Mittel \n\n\n\n	\n		\n			\n				\n					\n						\n  \n  \n\n						\n							Zum Kalender hinzufügen						\n						\n					\n					\n						\n															\n									\n										Google Kalender									\n								\n															\n									\n										iCalendar									\n								\n															\n									\n										Outlook 365									\n								\n															\n									\n										Outlook Live
URL:https://alpenverein-simbach.de/event/schneeschuh-chamer-huettebayr-wald-mit-uebernachtung-ck02-26/
CATEGORIES:Schneeschuh-Wanderung
END:VEVENT
BEGIN:VEVENT
DTSTART;TZID=Europe/Berlin:20260215T000000
DTEND;TZID=Europe/Berlin:20260217T235959
DTSTAMP:20260423T103842
CREATED:20251221T192654Z
LAST-MODIFIED:20251221T192655Z
UID:1551-1771113600-1771372799@alpenverein-simbach.de
SUMMARY:Skitourentage in Dientenam Hochkönig (NW02/26)
DESCRIPTION:Von Dienten aus sind sowohl Touren in den Pinzgauer Grasbergen als auch im Hockkönigmassiv möglich.Als Ziele an den drei Tourentagen bieten sich an: Ahornstein (1.855 m)\, Klingspitz (1.988 m)\, Lausköpfe (2.190 m)\, Bockkar (2.501 m) oder Taghaubenscharte (2.140 m).AP: Dienten am HochkönigTreffpunkt: Kletterhalle 6:00 Uhr (Abfahrt)Gehzeit: 2\,5 h bis 4 h; HM: 750 bis maximal 1.300 hmAusrüstung: komplette Skitourenausrüstung\, Schaufel\, Sonde\, LVS-GerätAnforderungen: leichte bis mittelschwere SkitourenMax. Teilnehmer: 7Teilnahmegebühr: 5 Euro pro Tourentag (zzgl. Anreise)Übernachtung: Voraussichtlich in DZ des Universitätssportzentrums Dientnerhof\, HP: ca. 80 Euro pro Person und TagAnmeldeschluss: bis spätestens 7. Januar 2026Leitung: Nikolaus Westenthanner \n\n\n\n\nSchwierigkeit: Mittel \n\n\n\n	\n		\n			\n				\n					\n						\n  \n  \n\n						\n							Zum Kalender hinzufügen						\n						\n					\n					\n						\n															\n									\n										Google Kalender									\n								\n															\n									\n										iCalendar									\n								\n															\n									\n										Outlook 365									\n								\n															\n									\n										Outlook Live
URL:https://alpenverein-simbach.de/event/skitourentage-in-dientenam-hochkoenig-nw02-26/
CATEGORIES:Schitour
END:VEVENT
BEGIN:VEVENT
DTSTART;TZID=Europe/Berlin:20260216T000000
DTEND;TZID=Europe/Berlin:20260216T235959
DTSTAMP:20260423T103842
CREATED:20251221T193213Z
LAST-MODIFIED:20251221T193214Z
UID:1553-1771200000-1771286399@alpenverein-simbach.de
SUMMARY:Kolmkarspitz (2.529 m) Goldberg-Gruppe (GA02/26)
DESCRIPTION:Die Kolmkarspitze ist ein lohnendes Skitourenziel in der hochalpinen Arena von Kolm Saigurn am Ende des Rauriser Tals. Einfache Skitour auf einen aussichtsreichen Gipfel mit Blick auf den Rauriser Sonnblick und Hocharn.AP: Rauris Parkplatz Bodenhaus 1.220mTreffpunkt: Kletterhalle 6:00 Uhr (Abfahrt)Gehzeit: 4\,5 h; HM: 1.300 hmAusrüstung: Skitourenausrüstung\, Piepser\, Sonde\, SchaufelAnforderungen: mittel/schwerMax. Teilnehmer: 9Teilnahmegebühr: 5 Euro (zzgl. Anreise)Leitung: Gerhard Auer \n\n\n\n\nSchwierigkeit: Mittel \n\n\n\n	\n		\n			\n				\n					\n						\n  \n  \n\n						\n							Zum Kalender hinzufügen						\n						\n					\n					\n						\n															\n									\n										Google Kalender									\n								\n															\n									\n										iCalendar									\n								\n															\n									\n										Outlook 365									\n								\n															\n									\n										Outlook Live
URL:https://alpenverein-simbach.de/event/kolmkarspitz-2-529-m-goldberg-gruppe-ga02-26/
CATEGORIES:Schitour
END:VEVENT
BEGIN:VEVENT
DTSTART;TZID=Europe/Berlin:20260220T090000
DTEND;TZID=Europe/Berlin:20260220T120000
DTSTAMP:20260423T103842
CREATED:20260301T190545Z
LAST-MODIFIED:20260301T190546Z
UID:1617-1771578000-1771588800@alpenverein-simbach.de
SUMMARY:Familien-Klettern (CNHS01/26)
DESCRIPTION:Klettern\, Schaukeln\, Spielen – es sind keine Vorkenntnisse notwendigTreffpunkt: Kletterhalle BIWAK2 9 – 12 UhrKosten: Eintritt und AusleiheTeilnehmer: max. 12 PersonenLeitung: Conny Nachtigall und Herbert Simböck
URL:https://alpenverein-simbach.de/event/familien-klettern-cnhs01-26/
CATEGORIES:Familiengruppe
END:VEVENT
BEGIN:VEVENT
DTSTART;TZID=Europe/Berlin:20260221T000000
DTEND;TZID=Europe/Berlin:20260221T235959
DTSTAMP:20260423T103842
CREATED:20251221T194135Z
LAST-MODIFIED:20251221T194136Z
UID:1559-1771632000-1771718399@alpenverein-simbach.de
SUMMARY:Skitourenklassiker –Watzmannkar/Skischartel (BB03/26)
DESCRIPTION:Klassische und anspruchsvolle Skitour in einer fantastischen Umgebung mit Blick auf Watzmannhaus und Königssee.AP: Parkplatz Hammerstiel\, BerchtesgardenTreffpunkt: Kletterhalle 5 Uhr (Abfahrt)Gehzeit: 5 h; HM: ca. 1.500 hmAusrüstung: komplette Skitourenausrüstung\, Piepser\, Schaufel\, Sonde\, HarscheisenAnforderungen: schwere SkitourMax. Teilnehmer: 7Teilnahmegebühr: 5 Euro (zzgl. Anreise)Leitung: Benedikt Bittcher \n\n\n\n\nSchwierigkeit: Schwer \n\n\n\n	\n		\n			\n				\n					\n						\n  \n  \n\n						\n							Zum Kalender hinzufügen						\n						\n					\n					\n						\n															\n									\n										Google Kalender									\n								\n															\n									\n										iCalendar									\n								\n															\n									\n										Outlook 365									\n								\n															\n									\n										Outlook Live
URL:https://alpenverein-simbach.de/event/skitourenklassiker-watzmannkar-skischartel-bb03-26/
CATEGORIES:Schitour
END:VEVENT
BEGIN:VEVENT
DTSTART;TZID=Europe/Berlin:20260227T000000
DTEND;TZID=Europe/Berlin:20260301T235959
DTSTAMP:20260423T103842
CREATED:20251221T194406Z
LAST-MODIFIED:20251221T194407Z
UID:1561-1772150400-1772409599@alpenverein-simbach.de
SUMMARY:Skitourentage auf dem Stahlhaus(1.733 m) Berchtesgadener Alpen (SH04/26)
DESCRIPTION:Klassische und ungewöhnliche Berchtesgadener Skitouren.Ausdrücklich richtet sich das Angebot auch an Neulinge\, die das Skitourengehen mit Hüttenstützpunkt erst kennenlernen möchten. Ausbildungseinheiten werden integriert.Mögliche Unternehmungen: Jenner\, Schneibstein\, KleineReibn\, Windschartenkopf\, Fagstein\, Bockskehl\, RichtungKahlersberg\, Hochgschirr…AP: HinterbrandTreffpunkt: Kletterhalle 6 Uhr (Abfahrt)Gehzeit: ca. 5 bis 8 h pro Tag; HM: ca. 1.000 bis 2.000 hmAusrüstung: komplette Skitourenausrüstung\, Piepser\, Schaufel\, Sonde\, HarscheisenAnforderungen: Skitouren mittelschwere Schwierigkeitsgrades\, gute Kondition erforderlichMax. Teilnehmer: 7Teilnahmegebühr: 5 Euro (zzgl. Anreise)Anmeldeschluss: 31. Januar 2026Leitung: Stephan Haslinger \n\n\n\n\nSchwierigkeit: Mittel \n\n\n\n	\n		\n			\n				\n					\n						\n  \n  \n\n						\n							Zum Kalender hinzufügen						\n						\n					\n					\n						\n															\n									\n										Google Kalender									\n								\n															\n									\n										iCalendar									\n								\n															\n									\n										Outlook 365									\n								\n															\n									\n										Outlook Live
URL:https://alpenverein-simbach.de/event/skitourentage-auf-dem-stahlhaus1-733-m-berchtesgadener-alpen-sh04-26/
CATEGORIES:Schitour
END:VEVENT
END:VCALENDAR