BEGIN:VCALENDAR
VERSION:2.0
PRODID:-//Deutscher Alpenverein Sektion Simbach am Inn - ECPv6.3.3.1//NONSGML v1.0//EN
CALSCALE:GREGORIAN
METHOD:PUBLISH
X-WR-CALNAME:Deutscher Alpenverein Sektion Simbach am Inn
X-ORIGINAL-URL:https://alpenverein-simbach.de
X-WR-CALDESC:Veranstaltungen für Deutscher Alpenverein Sektion Simbach am Inn
REFRESH-INTERVAL;VALUE=DURATION:PT1H
X-Robots-Tag:noindex
X-PUBLISHED-TTL:PT1H
BEGIN:VTIMEZONE
TZID:Europe/Berlin
BEGIN:DAYLIGHT
TZOFFSETFROM:+0100
TZOFFSETTO:+0200
TZNAME:CEST
DTSTART:20260329T010000
END:DAYLIGHT
BEGIN:STANDARD
TZOFFSETFROM:+0200
TZOFFSETTO:+0100
TZNAME:CET
DTSTART:20261025T010000
END:STANDARD
END:VTIMEZONE
BEGIN:VEVENT
DTSTART;TZID=Europe/Berlin:20260404T000000
DTEND;TZID=Europe/Berlin:20260502T235959
DTSTAMP:20260421T092308
CREATED:20251221T195832Z
LAST-MODIFIED:20251221T195833Z
UID:1574-1775260800-1777766399@alpenverein-simbach.de
SUMMARY:Skitour auf den Hochkönig(2.941 m) Berchtesgadener Alpen (SH06/26)
DESCRIPTION:Änderung der Strategie: Abhängig von den Bedingungen erfahren die Angemeldeten rechtzeitig vom Tourenleiter per Mail\, wann (Wochenende\, Feiertag) die Tour stattfindet. \n\n\n\nDann geht es hochalpin auf den König der Berchtesgadener. \n\n\n\nAP: ArthurhausTreffpunkt: Kletterhalle 3 Uhr (Abfahrt)Gehzeit: gute 5 h; HM: 1.550 hm inkl. GegenanstiegAusrüstung: komplette Skitourenausrüstung (Harscheisen!)\, Piepser\, Schaufel\, SondeAusrüstung: lange und anspruchsvolle Tour\, die sehr gute Kondition und sichere Aufstiegs- und Skitechnik voraussetztMax. Teilnehmer: 7Teilnahmegebühr: 5 Euro (zzgl. Anreise)Leitung: Stephan Haslinger \n\n\n\n\nSchwierigkeit: Schwer \n\n\n\n	\n		\n			\n				\n					\n						\n  \n  \n\n						\n							Zum Kalender hinzufügen						\n						\n					\n					\n						\n															\n									\n										Google Kalender									\n								\n															\n									\n										iCalendar									\n								\n															\n									\n										Outlook 365									\n								\n															\n									\n										Outlook Live
URL:https://alpenverein-simbach.de/event/skitour-auf-den-hochkoenig2-941-m-berchtesgadener-alpen-sh06-26/
CATEGORIES:Schitour
END:VEVENT
BEGIN:VEVENT
DTSTART;TZID=Europe/Berlin:20260501T000000
DTEND;TZID=Europe/Berlin:20260501T235959
DTSTAMP:20260421T092308
CREATED:20260301T191629Z
LAST-MODIFIED:20260301T191630Z
UID:1627-1777593600-1777679999@alpenverein-simbach.de
SUMMARY:Mountainbiken in der Heimat (TG01/26)
DESCRIPTION:Traditionelle Einradltour vor der Haustür von Obersimbach bis Oberjulbach bzw. Schellenberg bis Innhangtrail\, ist alles dabei.AP: KletterhalleTreffpunkt: Kletterhalle\, 10 Uhr (Abfahrt)Fahrzeit: HalbtagestourHM: ca. 850 hm (ca. 30 km)Ausrüstung: Technisch einwandfreies MTB\, Helm\, Handschuhe\, Trinkflasche oder -rucksack etc.Anforderungen: Befahren von leichten bis mittelschweren Trails\, durchschnittl. KonditionMax. Teilnehmer: 14Hinweis: Möglichkeit zur Verpflegung und zum Duschen in der Kletterhalle (Maibaum aufstellen)Teilnahmegebühr: 5 EuroLeitung: Thomas Grandl und Jürgen Dachgruber \n\n\n\n\nSchwierigkeit: Leicht \n\n\n\n	\n		\n			\n				\n					\n						\n  \n  \n\n						\n							Zum Kalender hinzufügen						\n						\n					\n					\n						\n															\n									\n										Google Kalender									\n								\n															\n									\n										iCalendar									\n								\n															\n									\n										Outlook 365									\n								\n															\n									\n										Outlook Live
URL:https://alpenverein-simbach.de/event/mountainbiken-in-der-heimat-tg01-26/
CATEGORIES:Mountainbike-Tour
END:VEVENT
BEGIN:VEVENT
DTSTART;TZID=Europe/Berlin:20260501T110000
DTEND;TZID=Europe/Berlin:20260501T110000
DTSTAMP:20260421T092308
CREATED:20260301T192649Z
LAST-MODIFIED:20260301T192657Z
UID:1640-1777633200-1777633200@alpenverein-simbach.de
SUMMARY:Maibaumaufstellen mit Weißwurstfrühstück
DESCRIPTION:Kletterhalle
URL:https://alpenverein-simbach.de/event/maibaumaufstellen-mit-weisswurstfruehstueck-2/
CATEGORIES:Familiengruppe,Jugend,Sektion,Senioren
END:VEVENT
BEGIN:VEVENT
DTSTART;TZID=Europe/Berlin:20260521T180000
DTEND;TZID=Europe/Berlin:20260521T180000
DTSTAMP:20260421T092308
CREATED:20260301T192900Z
LAST-MODIFIED:20260301T192931Z
UID:1642-1779386400-1779386400@alpenverein-simbach.de
SUMMARY:Einzug zur Pfingstdult - Abend der Vereine
DESCRIPTION:Treffpunkt Kirchenplatz
URL:https://alpenverein-simbach.de/event/einzug-zur-pfingstdult-abend-der-vereine/
CATEGORIES:Familiengruppe,Jugend,Sektion,Senioren
END:VEVENT
BEGIN:VEVENT
DTSTART;TZID=Europe/Berlin:20260529T000000
DTEND;TZID=Europe/Berlin:20260529T235959
DTSTAMP:20260421T092308
CREATED:20260401T110302Z
LAST-MODIFIED:20260401T110304Z
UID:1661-1780012800-1780099199@alpenverein-simbach.de
SUMMARY:Felsklettern am Gaisberg
DESCRIPTION:Gemeinsamer Ausflug zum Gaisberg bei Salzburg mit spannenden Felskletterrouten \n\n\n\nLeitung: Simon Entholzer
URL:https://alpenverein-simbach.de/event/felsklettern-am-gaisberg/
CATEGORIES:Jugend
END:VEVENT
BEGIN:VEVENT
DTSTART;TZID=Europe/Berlin:20260531T000000
DTEND;TZID=Europe/Berlin:20260531T235959
DTSTAMP:20260421T092308
CREATED:20260301T174255Z
LAST-MODIFIED:20260301T174256Z
UID:1582-1780185600-1780271999@alpenverein-simbach.de
SUMMARY:Großes Hundhorn (1.705 m) (AL01/26)
DESCRIPTION:Auf einen markanten Aussichtsberg bei LoferAP: St. Martin bei LoferTreffpunkt: Kletterhalle 7 Uhr (Abfahrt)Gehzeit: 3 bis 4 h; HM: 1.100 hmAusrüstung: Bergwanderausrüstung mit BrotzeitAnforderungen: Lange Wanderung; Trittsicherheit und entsprechende KonditionMax. Teilnehmer: unbegrenztTeilnahmegebühr: 5 Euro(zzgl. Anreise)Leitung: Andreas Lindl \n\n\n\n\nSchwierigkeit: Leicht \n\n\n\n	\n		\n			\n				\n					\n						\n  \n  \n\n						\n							Zum Kalender hinzufügen						\n						\n					\n					\n						\n															\n									\n										Google Kalender									\n								\n															\n									\n										iCalendar									\n								\n															\n									\n										Outlook 365									\n								\n															\n									\n										Outlook Live
URL:https://alpenverein-simbach.de/event/grosses-hundhorn-1-705-m-al01-26/
CATEGORIES:Wanderung/Bergtour
END:VEVENT
END:VCALENDAR