BEGIN:VCALENDAR
VERSION:2.0
PRODID:-//Deutscher Alpenverein Sektion Simbach am Inn - ECPv6.3.3.1//NONSGML v1.0//EN
CALSCALE:GREGORIAN
METHOD:PUBLISH
X-WR-CALNAME:Deutscher Alpenverein Sektion Simbach am Inn
X-ORIGINAL-URL:https://alpenverein-simbach.de
X-WR-CALDESC:Veranstaltungen für Deutscher Alpenverein Sektion Simbach am Inn
REFRESH-INTERVAL;VALUE=DURATION:PT1H
X-Robots-Tag:noindex
X-PUBLISHED-TTL:PT1H
BEGIN:VTIMEZONE
TZID:Europe/Berlin
BEGIN:DAYLIGHT
TZOFFSETFROM:+0100
TZOFFSETTO:+0200
TZNAME:CEST
DTSTART:20260329T010000
END:DAYLIGHT
BEGIN:STANDARD
TZOFFSETFROM:+0200
TZOFFSETTO:+0100
TZNAME:CET
DTSTART:20261025T010000
END:STANDARD
END:VTIMEZONE
BEGIN:VEVENT
DTSTART;TZID=Europe/Berlin:20260703T000000
DTEND;TZID=Europe/Berlin:20260705T235959
DTSTAMP:20260423T121114
CREATED:20260301T191900Z
LAST-MODIFIED:20260301T191901Z
UID:1629-1783036800-1783295999@alpenverein-simbach.de
SUMMARY:Mountainbike Wochenende in den Kitzbüheler Alpen (TG02/26)
DESCRIPTION:Ein gut ausgebautes MTB-Radwegenetz bietet diese Region\, um verschiedene Touren rund ums Brixental zu fahren.Wir zeigen euch die besten Trails gepaart mit traumhaften Aussichten.AP: Brixen im Thale (Anreise 03. Juli)Treffpunkt: 3. Juli\, 14 Uhr am BIWAK2 od. ab 18 Uhr am Campingplatz beim APFahrzeit: Samstag Ganztagestour\, Sonntag Halbtagestour (Tourenbeginn 8:00 Uhr)HM: Samstag bis ca. 1.500 hm\, Sonntag bis ca. 1.200 hm (ca. je 25 km) (teilweise kann die Gondel benutzt werden)Ausrüstung: Technisch einwandfreies Mountainbike\, Helm\, Handschuhe\, Trinkflasche od. -rucksack\, ggf. spezifische Ersatzteile etc.Anforderungen: Befahren von mittelschweren bis schwere Trails\, gute Kondition erforderlich\, es können verschiedene Gruppen gebildet werdenMax. Teilnehmer: 14Teilnahmegebühr: 15 EuroHinweis: Bei Anmeldung bitte eMail angeben – Fahrgemeinschaften!Leitung: Thomas Grandl und Jürgen Dachgruber \n\n\n\n\nSchwierigkeit: Mittel \n\n\n\n	\n		\n			\n				\n					\n						\n  \n  \n\n						\n							Zum Kalender hinzufügen						\n						\n					\n					\n						\n															\n									\n										Google Kalender									\n								\n															\n									\n										iCalendar									\n								\n															\n									\n										Outlook 365									\n								\n															\n									\n										Outlook Live
URL:https://alpenverein-simbach.de/event/mountainbike-wochenende-in-den-kitzbueheler-alpen-tg02-26/
CATEGORIES:Mountainbike-Tour
END:VEVENT
BEGIN:VEVENT
DTSTART;TZID=Europe/Berlin:20260704T000000
DTEND;TZID=Europe/Berlin:20260704T235959
DTSTAMP:20260423T121114
CREATED:20260301T190853Z
LAST-MODIFIED:20260301T190854Z
UID:1619-1783123200-1783209599@alpenverein-simbach.de
SUMMARY:Wanderung durch die Almbachklammbei Berchtesgaden (CNHS02/26)
DESCRIPTION:Wanderung durch die Almbachklamm – toller Bach mit grandiosen WasserfällenTreffpunkt: Kletterhalle BIWAK2 9 UhrKosten: 10 Euro/Familie und Eintritt in die KlammTeilnehmer: max. 12 PersonenLeitung: Conny Nachtigall und Herbert Simböck \n\n\n\n\nSchwierigkeit: Leicht \n\n\n\n	\n		\n			\n				\n					\n						\n  \n  \n\n						\n							Zum Kalender hinzufügen						\n						\n					\n					\n						\n															\n									\n										Google Kalender									\n								\n															\n									\n										iCalendar									\n								\n															\n									\n										Outlook 365									\n								\n															\n									\n										Outlook Live
URL:https://alpenverein-simbach.de/event/wanderung-durch-die-almbachklammbei-berchtesgaden-cnhs02-26/
CATEGORIES:Familiengruppe
END:VEVENT
BEGIN:VEVENT
DTSTART;TZID=Europe/Berlin:20260704T080000
DTEND;TZID=Europe/Berlin:20260706T170000
DTSTAMP:20260423T121114
CREATED:20260301T180410Z
LAST-MODIFIED:20260301T180411Z
UID:1590-1783152000-1783357200@alpenverein-simbach.de
SUMMARY:Vorbereitungstour ins Zillertal (GA05/26)
DESCRIPTION:Pflichttour für die Teilnehmer der Hochtour.Reichenspitz (3.303 m)\, Zillerplattenspitz (3.214 m)AP: Bärenbad\, 1.450 hmSP: Plauener Hütte\, 2.363 hmTreffpunkt: Kletterhalle 6 Uhr (Abfahrt)Gehzeit: über 8 h; HM: bis 1.200 hmAusrüstung: Hochtourenausrüstung\, Pickel\, Steigeisen\, Gurt\, Karabiner\, Helm\, SeilAnforderungen: schwer. Schwindelfreiheit\, Trittsicherheit\, Kondition für Touren über 10 Std.Max. Teilnehmer: 9Kosten: Anreise und ÜbernachtungTeilnahmegebühr: 15 EuroLeitung: Gerhard Auer \n\n\n\n\nSchwierigkeit: Schwer \n\n\n\n	\n		\n			\n				\n					\n						\n  \n  \n\n						\n							Zum Kalender hinzufügen						\n						\n					\n					\n						\n															\n									\n										Google Kalender									\n								\n															\n									\n										iCalendar									\n								\n															\n									\n										Outlook 365									\n								\n															\n									\n										Outlook Live
URL:https://alpenverein-simbach.de/event/vorbereitungstour-ins-zillertal-ga05-26/
CATEGORIES:Wanderung/Bergtour
END:VEVENT
BEGIN:VEVENT
DTSTART;TZID=Europe/Berlin:20260705T000000
DTEND;TZID=Europe/Berlin:20260705T235959
DTSTAMP:20260423T121114
CREATED:20260401T110447Z
LAST-MODIFIED:20260401T110448Z
UID:1663-1783209600-1783295999@alpenverein-simbach.de
SUMMARY:Zwiesel (Chiemgau)
DESCRIPTION:950 hm mit Einkehrmöglichkeit (Zwieselalm) \n\n\n\nLeitung: Aurel Arnoldt
URL:https://alpenverein-simbach.de/event/zwiesel-chiemgau/
CATEGORIES:Jugend
END:VEVENT
BEGIN:VEVENT
DTSTART;TZID=Europe/Berlin:20260711T000000
DTEND;TZID=Europe/Berlin:20260711T235959
DTSTAMP:20260423T121114
CREATED:20260301T180859Z
LAST-MODIFIED:20260301T180900Z
UID:1592-1783728000-1783814399@alpenverein-simbach.de
SUMMARY:Bergtour: Tristkopf (2.110 m) (FG02/26)
DESCRIPTION:Einziger Gipfel im einsamen Hagengebirge\, der über einen markierten Weg zu erreichen ist.AP: Parkplatz bei Kiesgrube Sulzau\, 540 mTreffpunkt: Kletterhalle 6 Uhr (Abfahrt)Gehzeit: 8 h; HM: 1.550 hmAusrüstung: BergwanderausrüstungAnforderungen: Trittsicherheit\, KonditionMax. Teilnehmer: offenTeilnahmegebühr: 5 Euro(zzgl. Anreise)Leitung: Franz Gilg \n\n\n\n\nSchwierigkeit: Mittel \n\n\n\n	\n		\n			\n				\n					\n						\n  \n  \n\n						\n							Zum Kalender hinzufügen						\n						\n					\n					\n						\n															\n									\n										Google Kalender									\n								\n															\n									\n										iCalendar									\n								\n															\n									\n										Outlook 365									\n								\n															\n									\n										Outlook Live
URL:https://alpenverein-simbach.de/event/bergtour-tristkopf-2-110-m-fg02-26/
CATEGORIES:Wanderung/Bergtour
END:VEVENT
BEGIN:VEVENT
DTSTART;TZID=Europe/Berlin:20260718T080000
DTEND;TZID=Europe/Berlin:20260719T170000
DTSTAMP:20260423T121114
CREATED:20260301T181055Z
LAST-MODIFIED:20260301T181056Z
UID:1594-1784361600-1784480400@alpenverein-simbach.de
SUMMARY:Höchstein (2.543 m) (AL02/26)
DESCRIPTION:Ein Wochenende in den Schladminger TauernAP: Schladming / Haus im EnnstalSP: Hans Wödl Hütte\, 1.528 hmTreffpunkt: Kletterhalle 8 Uhr (Abfahrt)Gehzeit: 1. Tag 2 h; 2. Tag 7 – 8 h; HM: 1.000 hmAusrüstung: Bergwanderausrüstung und HüttenübernachtungAnforderungen: Trittsicherheit und entsprechende KonditionMax. Teilnehmer: 8Kosten: Anreise und ÜbernachtungTeilnahmegebühr: 10 EuroAnmeldeschluss: 14. Juni 2026Leitung: Andreas Lindl \n\n\n\n\nSchwierigkeit: Mittel \n\n\n\n	\n		\n			\n				\n					\n						\n  \n  \n\n						\n							Zum Kalender hinzufügen						\n						\n					\n					\n						\n															\n									\n										Google Kalender									\n								\n															\n									\n										iCalendar									\n								\n															\n									\n										Outlook 365									\n								\n															\n									\n										Outlook Live
URL:https://alpenverein-simbach.de/event/hoechstein-2-543-m-al02-26/
CATEGORIES:Wanderung/Bergtour
END:VEVENT
BEGIN:VEVENT
DTSTART;TZID=Europe/Berlin:20260719T000000
DTEND;TZID=Europe/Berlin:20260719T235959
DTSTAMP:20260423T121114
CREATED:20260301T191040Z
LAST-MODIFIED:20260301T191041Z
UID:1621-1784419200-1784505599@alpenverein-simbach.de
SUMMARY:Wanderung zur Pöhlmannhütte (CNHS03/26)
DESCRIPTION:Zusammen mit der Familiengruppe Rotthalmünster – Spiele im Wald\, gemeinsam Brotzeit machenTreffpunkt: Kletterhalle BIWAK2 9 Uhr (Abfahrt)Kosten: kostenfreiLeitung: Stefan Rotheneichner\, Conny Nachtigall und Herbert Simböck \n\n\n\n\nSchwierigkeit: Leicht \n\n\n\n	\n		\n			\n				\n					\n						\n  \n  \n\n						\n							Zum Kalender hinzufügen						\n						\n					\n					\n						\n															\n									\n										Google Kalender									\n								\n															\n									\n										iCalendar									\n								\n															\n									\n										Outlook 365									\n								\n															\n									\n										Outlook Live
URL:https://alpenverein-simbach.de/event/wanderung-zur-poehlmannhuette-cnhs03-26/
CATEGORIES:Familiengruppe
END:VEVENT
BEGIN:VEVENT
DTSTART;TZID=Europe/Berlin:20260730T000000
DTEND;TZID=Europe/Berlin:20260803T235959
DTSTAMP:20260423T121114
CREATED:20260301T191241Z
LAST-MODIFIED:20260301T191242Z
UID:1623-1785369600-1785801599@alpenverein-simbach.de
SUMMARY:Rauf auf die Hütte - Familienfreizeit (CNHS04/26)
DESCRIPTION:Auf der Simbacher Hütte (Selbstversorger) Wandern\, Spielen\, lustiges Zusammensein\, Übernachten mit Hüttenflair. Es sind auch weniger als 3 Übernachtungen möglich.Teilnehmer: max. 28 PersonenKosten: Verpflegung und ÜbernachtungLeitung: Conny Nachtigall und Herbert SimböckDie Teilnehmer erhalten dann genaue Infos. \n\n\n\n\nSchwierigkeit: Leicht \n\n\n\n	\n		\n			\n				\n					\n						\n  \n  \n\n						\n							Zum Kalender hinzufügen						\n						\n					\n					\n						\n															\n									\n										Google Kalender									\n								\n															\n									\n										iCalendar									\n								\n															\n									\n										Outlook 365									\n								\n															\n									\n										Outlook Live
URL:https://alpenverein-simbach.de/event/rauf-auf-die-huette-familienfreizeit-cnhs04-26/
CATEGORIES:Familiengruppe
END:VEVENT
BEGIN:VEVENT
DTSTART;TZID=Europe/Berlin:20260730T180000
DTEND;TZID=Europe/Berlin:20260730T180000
DTSTAMP:20260423T121114
CREATED:20260301T193315Z
LAST-MODIFIED:20260301T193316Z
UID:1648-1785434400-1785434400@alpenverein-simbach.de
SUMMARY:Stammtisch in der Kletterhalle
DESCRIPTION:
URL:https://alpenverein-simbach.de/event/stammtisch-in-der-kletterhalle-12/
CATEGORIES:Senioren
END:VEVENT
END:VCALENDAR